BEGIN:VCALENDAR
PRODID:-//eluceo/ical//2.0/EN
VERSION:2.0
CALSCALE:GREGORIAN
BEGIN:VEVENT
UID:086cc09e845eb4d3f4f8aa4f485c2929
DTSTAMP:20260424T024328Z
SUMMARY:Seniors' assessment week
DESCRIPTION:
DTSTART;VALUE=DATE:20260622
DTEND;VALUE=DATE:20260625
END:VEVENT
END:VCALENDAR
