BEGIN:VCALENDAR
PRODID:-//eluceo/ical//2.0/EN
VERSION:2.0
CALSCALE:GREGORIAN
BEGIN:VEVENT
UID:0fc042179384e37df733595e0526e131
DTSTAMP:20260424T024328Z
SUMMARY:Senior Graduation
DESCRIPTION:
DTSTART;VALUE=DATE:20260625
END:VEVENT
END:VCALENDAR
