BEGIN:VCALENDAR
PRODID:-//eluceo/ical//2.0/EN
VERSION:2.0
CALSCALE:GREGORIAN
BEGIN:VEVENT
UID:8ecad97a08e73cff928a1def904d08f4
DTSTAMP:20260424T024349Z
SUMMARY:Eid Al Adha
DESCRIPTION:
DTSTART;VALUE=DATE:20260526
DTEND;VALUE=DATE:20260529
END:VEVENT
END:VCALENDAR
